Workbook
Name Consumo: #REF!
Name Consumo: #REF!
Name Contenções_fundações: #REF!
Name Contenções_fundações: #REF!
Name Desp_iniciais: #REF!
Name Desp_iniciais: #REF!
Name Instal_Canteiro: #REF!
Name Instal_Canteiro: #REF!

Sheet FONECEDORES
B1: IDENTIFICAÇÃO DO FORNECEDOR
A3: LOCAL: | B3: 1) QUADRAS DE TÊNIS CLUBE SOCIAL
A4: COTAÇÃO: | B4: Retirada e Reinstalação de Alambrado
A6: IDENDIFICAÇÃO | B6: ITEM | C6: FORNECEDOR
A7: LOGOTIPO DA EMPRESA | B7: RAZÃO SOCIAL
B8: CNPJ:
B9: NOME FANTASIA
B10: TELEFONE
B11: CONTATO
B12: CELULAR
B13: E_MAIL

Sheet ESCOPO ADMINISTRATIVO
A1: PLANILHA DE ESCOPO ADMINISTRATIVO
A3: EMPRESA:
A4: LOCAL: | B4: =FONECEDORES!B3 -> 1) QUADRAS DE TÊNIS CLUBE SOCIAL
A5: COTAÇÃO: | B5: =FONECEDORES!B4 -> Retirada e Reinstalação de Alambrado
A6: HISTÓRICO
A7: OBSERVAÇÕES GERAIS: | B7: 1) A PLANILHA ABAIXO RESUME AS ATRIBUIÇÕES DAS PARTES PARA CUMPRIMENTO DO CONTRATO. AS RESPONSABILIDADES DAS PARTES ESTÃO ASSINALADAS COM "X" 2) RESPEITAR O CALENDÁRIO DE OBRAS DA FAZENDA BOA VISTA (Arquivo "Calendário Obras 2024") 3) PREENCHER O "CRONOGRAMA SIMPLIFICADO" NA ABA ANTERIOR DESTA PLANILHA. 4) A RELAÇÃO DE COLABORADORES DEVERÁ SER ENVIADA ANTES DO INÍCIO DA OBRA PARA ELABORAÇÃO DO CONTRATO. 5) TODOS OS COLABORADORES ENVOLVIDOS NA OBRA DEVERÃO PARTICIPAR DA INTEGRAÇÃO COM O TÉCNICO DE SEGURANÇA (terças e quintas-feiras das 09:00 as 10:00h) 6) A PROPOSTA DEVERÁ SER ENVIADA DE MANEIRA ANALÍTICA (OS VALORES DOS ITENS DEVERÃO ESTAR SEPARADOS RESPEITANDO AS LINHAS DO ESCOPO TÉCNICO) 7) INDICAR AS CONDIÇÃO DE CONTRATO, EX: FATURAMENTO DIRETO, PORCENTUAL MATERIAL E MÃO DE OBRA. 8) O FATURAMENTO DOS SERVIÇOS DEVERÁ RESPEITAR O ARQUIVO "Instruções para Faturamento, Envio de NF's e Entrega de Produtos - Rev. 04" 9) O FATURAMENTO SÓ SERÁ AUTORIZADO APÓS AS MEDIÇÕES FEITAS PELO CONTRATANTE COM FREQUÊNCIA QUINZENAL OU CONFORME AVANÇO DA OBRA. 10) O ACESSO DOS PRESTADORES DE SERVIÇOS E FORNECEDORES DEVERÁ SER FEITO PELA PORTARIA P3 CONFORME ARQUIVO "Mapa Fazenda Boa Vista" 11) OS CONCORRENTES DEVEM ATENDER TODAS AS EXIGÊNCIAS DO "Manual administrativo para prestadores de serviço"
A12: ITEM | C12: RESPONSÁVEL | E12: OBSERVAÇÕES
C13: CONTRATADA | D13: CONTRATANTE
A15: 1 | B15: ESCOPO PARA PRESTADORES DE SERVIÇO
A16: 1.1 | B16: Local para guarda de equipamento | C16: x
A17: 1.2 | B17: Vestiário e Sanitários | C17: x
A18: 1.3 | B18: Refeiçoes de funcionários | C18: x
A19: 1.4 | B19: Tranporte de funcionários (vale transporte, condução, etc) | C19: x
A20: 1.5 | B20: Local para refeições | D20: x
A21: 1.6 | B21: Fornecimento de energia | D21: x
A22: 1.7 | B22: Fornecimento de projetos Arquitetônicos | D22: x
A23: 1.8 | B23: Fornecimento de projetos Estruturais | D23: x
A24: 1.9 | B24: Fornecimento de projetos Hidraulicos | D24: x
A25: 1.10 | B25: Fornecimento de projetos Elétricos | D25: x
A26: 1.11 | B26: Caçambas de entulho | C26: x
A27: 1.12 | B27: Estadia pessoal quando necessário | C27: x
A28: 1.13 | B28: Fornecimento de ART específica sobre os serviços realizados | C28: x
A29: 1.14 | B29: Equipamentos de proteção individual (EPI) | C29: x
A30: 1.15 | B30: Capacitação de segurança no trabalho (Conforme normas regulamentadores "NR") | C30: x
A31: 1.16 | B31: Supervisão de segurança do trabalho | C31: x | D31: x
A32: 1.17 | B32: Fornecimento de ferramentas e equipamentos quaisquer para obra | C32: x
A33: 1.18 | B33: Funcionários registrados | C33: x
A34: 1.19 | B34: Mestre ou Encarregado dedicado exclusivamente a obra e mão de obra qualificada | C34: x
A35: 1.20 | B35: Andaimes ou plataformas elevatórias quando necessários | C35: x
A36: 1.21 | B36: Montagem e desmontagem de andaime | C36: x
A37: 1.22 | B37: Limpeza da área de trabalho (PERMANENTE) | C37: x
A38: 1.23 | B38: Transporte de entulho até caçamba ou local pré-determinado pela contratante | C38: x
A39: 1.24 | B39: Controle de entrada e saída de equipamentos e ferramentas | C39: x
A40: 1.25 | B40: Recebimento e descarga de materiais necessários para seus serviços | C40: x
A41: 1.26 | B41: As Built, quando houver modificação dos projetos originalmente fornecidos | C41: N/A
A42: 1.27 | B42: Preenchimento de diário de obra. | C42: x
A43: 1.28 | B43: Preenchimento de fichas de controle de qualidade e de produção | C43: x | D43: x
A44: 1.29 | B44: Checar condições de início para seus serviços aprovando ou reprovando anteriores | D44: x
A45: 1.30 | B45: Cumprir com cronogramas e programações semanais de produção | C45: x
A46: 1.31 | B46: Manutenção de equipamentos de proteção coletivos (EPC´s) | C46: x
...

Sheet ESCOPO TÉCNICO
B1: PLANILHA DE ESCOPO TÉCNICO
A4: EMPRESA:
A5: LOCAL: | B5: =FONECEDORES!B3 -> 1) QUADRAS DE TÊNIS CLUBE SOCIAL
A6: COTAÇÃO: | B6: =FONECEDORES!B4 -> Retirada e Reinstalação de Alambrado
A7: INSTRUÇÕES DE PREENCHIMENTO: | B7: 1) O levantamento quantitativo estimado nessa planilha são aproximados, podendo haver variações. É de responsabilidade do contratante o fornecimento dos materiais que assegurem a conclusão da obra conforme projeto arquitetônico. 2) As empresas concorrentes estão autorizadas a fazerem alterações nas quantidades e/ou acrescentar algum item que não esteja expresso nesse escopo, caso identifiquem tal.
A11: OBSERVAÇÕES:
A17: ITEM | B17: MATERIAL/SERVIÇO | C17: C.CUSTO | D17: C. CONTÁBIL | E17: ITEM EM CONTA | F17: UN. | G17: QUANTID. | H17: Custo Unit. Mat. | I17: Custo Total Mat. | J17: Custo Unit. M.D.O | K17: Custo Total M.D.O | L17: CUSTO MAT.+ M.D.O | M17: OBSERVAÇÕES
A18: 1 | B18: RETIRADA E REINSTALAÇÃO DE ALAMBRADO | H18: =SUBTOTAL(9,H19:H22) -> 0 | I18: =SUBTOTAL(9,I19:I22) -> 0 | J18: =SUBTOTAL(9,J19:J22) -> 0 | K18: =SUBTOTAL(9,K19:K22) -> 0 | L18: =SUBTOTAL(9,L19:L22) -> 0
A19: 1.1 | B19: SERVIÇOS PRELIMINARES | H19: =SUBTOTAL(9,H20:H20) -> 0 | I19: =SUBTOTAL(9,I20:I20) -> 0 | J19: =SUBTOTAL(9,J20:J20) -> 0 | K19: =SUBTOTAL(9,K20:K20) -> 0 | L19: =SUBTOTAL(9,L20:L20) -> 0
A20: 1.1.1 | B20: Retirada de alambrado das divisas das quadras de tenis (4 partes de 36m cada) retirar tela e tubos e portões, deixar as esperas dos tubos no mesmo nivel do solo e/ou mureta. Serviço a ser realizado até o dia 23/12/2026 Armazenar os materiais no proprio local a ser indicado pela APCFBV | C20: ACLUBE.T | D20: 471012 - MANUT ITENS SERRALHERIA GERAL | E20: 05.01.09.0196 | F20: m | G20: 144 | I20: =H20*G20 -> 0 | K20: =J20*G20 -> 0 | L20: =I20+K20 -> 0
A21: 1.2 | B21: SERVIÇOS COMPLEMENTARES | H21: =SUBTOTAL(9,H22:H22) -> 0 | I21: =SUBTOTAL(9,I22:I22) -> 0 | J21: =SUBTOTAL(9,J22:J22) -> 0 | K21: =SUBTOTAL(9,K22:K22) -> 0 | L21: =SUBTOTAL(9,L22:L22) -> 0
A22: 1.2.1 | B22: Reinstalação de alambrado das divisas das quadras de tenis (4 partes de 36m cada) Efetuar soldas nos tubos, esticar telas e reinstalar portõe, e pintura pontual nos pontos de soldas. Serviço a ser iniciado no dia 04/01/2027 e finalizar em até 15 dias | C22: ACLUBE.T | D22: 471012 - MANUT ITENS SERRALHERIA GERAL | E22: 05.01.09.0196 | F22: m | G22: 144 | I22: =H22*G22 -> 0 | K22: =J22*G22 -> 0 | L22: =I22+K22 -> 0
A24: TOTAL | I24: =SUBTOTAL(9,I19:I22) -> 0 | K24: =SUBTOTAL(9,K19:K22) -> 0 | L24: =SUM(I24+K24) -> 0
A25: DESCONTO
A26: TOTAL NEGOCIADO | I26: =I24+I25 -> 0 | K26: =K24+K25 -> 0 | L26: =I26+K26 -> 0

Sheet CRONOGRAMA SIMPLIFICADO
B1: CRONOGRAMA SIMPLIFICADO
A3: EMPRESA:
A4: LOCAL: | B4: =FONECEDORES!B3 -> 1) QUADRAS DE TÊNIS CLUBE SOCIAL
A5: COTAÇÃO: | B5: =FONECEDORES!B4 -> Retirada e Reinstalação de Alambrado
A6: HISTÓRICO
A7: OBSERVAÇÕES GERAIS:
A12: ITEM | B12: MATERIAL/SERVIÇO | C12: 45292 | G12: 45323 | K12: 45352 | O12: 45383 | S12: 45413
C13: 1a. sem | D13: 2a. sem | E13: 3a. sem | F13: 4a. sem | G13: 1a. sem | H13: 2a. sem | I13: 3a. sem | J13: 4a. sem | K13: 1a. sem | L13: 2a. sem | M13: 3a. sem | N13: 4a. sem | O13: 1a. sem | P13: 2a. sem | Q13: 3a. sem | R13: 4a. sem | S13: 1a. sem | T13: 2a. sem | U13: 3a. sem | V13: 4a. sem
A14: 1 | B14: REFORMA DO PISO DE 1 QUADRA DE TENIS SAIBRO
A15: 1.1 | B15: SERVIÇOS PRELIMINARES
A16: 1.1.1 | B16: Cronograma de execução
A17: 1.1.2 | B17: Mobilização de equipe e maquinário
A18: 1.2 | B18: SERVIÇOS COMPLEMENTARES
A19: 1.2.1 | B19: Retirada das linhas demarcatórias existentes | K19: Fatura
A20: 1.2.2 | B20: Retirada da camada de saibro | K20: Fatura
A21: 1.2.3 | B21: Retirada da base pó de pedra e lona plastica preta | K21: Fatura
A22: 1.2.4 | B22: Preparação do piso para receber novo piso | K22: Fatura
A23: 1.2.5 | B23: Execução de mistura adequada de saibro peneirado com espessura de 5cm | K23: Fatura
A24: 1.2.6 | B24: Execução de nivelamento com equipamentos mecânicos | K24: Fatura
A25: 1.2.7 | B25: Compactação com cilindro de carga adequada, para nivelamento do piso | K25: Fatura
A26: 1.2.8 | B26: Colocação de jogo de linhas demarcatórias em PVC | K26: Fatura
A27: 1.2.9 | B27: Reinstalação de par de poste na quadra | K27: Fatura
A28: 1.2.10 | B28: Colocação de camada de pó de telha peneirado | K28: Fatura
A29: 2 | B29: REFORMA DO PISO DE 3 QUADRAS DE TENIS RAPIDA ASFALTICA
A30: 2.1 | B30: SERVIÇOS PRELIMINARES
A31: 2.1.1 | B31: Cronograma de execução
A32: 2.1.2 | B32: Mobilização de equipe e maquinário
A33: 2.2 | B33: SERVIÇOS COMPLEMENTARES
A34: 2.2.1 | B34: Abertura de fissuras no piso e posterior tratamento | V34: Fatura
A35: 2.2.2 | B35: Aplicação de pedrisco limpo, espalhado, nivelado, compactado e emulsionado com asfalto | V35: Fatura
A36: 2.2.3 | B36: Aplicação de pó de pedra emulsionado com asfalto | V36: Fatura
A37: 2.2.4 | B37: Aplicação de uma demão de lama asfáltica | V37: Fatura
A38: 2.2.5 | B38: Aplicação de duas demãos de camada regularizadora à base de resinas acrílicas com agregados de granulometria controladas | V38: Fatura
A39: 2.2.6 | B39: Aplicação de resina colorida (cor a ser definida) | V39: Fatura
A40: 2.2.7 | B40: Pintura das linhas de demarcação | V40: Fatura
A41: 3 | B41: REFORMA DA PISTA COOPER (CORRIDA) | V41: Fatura
A42: 3.1 | B42: SERVIÇOS PRELIMINARES | V42: Fatura
A43: 3.1.1 | B43: Cronograma de execução | V43: Fatura
A44: 3.1.2 | B44: Mobilização de equipe e maquinário
A45: 3.2 | B45: SERVIÇOS COMPLEMENTARES | I45: Fatura
...

Sheet ANEXOS
B1: ANEXOS
A3: EMPRESA:
A4: LOCAL: | B4: =FONECEDORES!B3 -> 1) QUADRAS DE TÊNIS CLUBE SOCIAL
A5: COTAÇÃO: | B5: =FONECEDORES!B4 -> Retirada e Reinstalação de Alambrado
A6: HISTÓRICO
A7: OBSERVAÇÕES GERAIS:
A9: ITEM | B9: IMAGEM | I9: OBSERVAÇÕES
A10: 1 | B10: LEGENDA: | C10: QUADRA TENIS SAIBRO
I11: Exemplo de canaleta lado externo da quadra
A102: 1 | B102: LEGENDA:
I103: TRECHO 1 - A SER EXECUTADO NOVA APLICAÇÃO APROXIMADAMENTE 14M²
A165: 2 | B165: LEGENDA:
I166: TRECHO 2 - A SER EXECUTADO NOVA APLICAÇÃO APROXIMADAMENTE 30M²
A229: 3 | B229: LEGENDA: | I229: TRECHO 3 - A SER EXECUTADO NOVA APLICAÇÃO APROXIMADAMENTE 8M²
A280: 4 | B280: LEGENDA: | I280: TRECHO 3 - A SER EXECUTADO NOVA APLICAÇÃO APROXIMADAMENTE 8M²
A304: 5 | B304: LEGENDA: | I304: TRECHO 4 - A SER EXECUTADO NOVA APLICAÇÃO APROXIMADAMENTE 6M²
A331: 6 | B331: LEGENDA:
